BEGIN:VCALENDAR
VERSION:2.0
PRODID:-//Activate UTS - ECPv4.7.2//NONSGML v1.0//EN
CALSCALE:GREGORIAN
METHOD:PUBLISH
X-WR-CALNAME:Activate UTS
X-ORIGINAL-URL:https://calendar.activateuts.com.au
X-WR-CALDESC:Events for Activate UTS
BEGIN:VEVENT
DTSTART;VALUE=DATE:20190125
DTEND;VALUE=DATE:20190126
DTSTAMP:20190228T051015
CREATED:20181221T032426Z
LAST-MODIFIED:20181221T032426Z
UID:1184-1548374400-1548460799@calendar.activateuts.com.au
SUMMARY:Due date for fees
DESCRIPTION:Due date for payments of fees for February sesson 2019 subjects (all students) \n
URL:https://calendar.activateuts.com.au/events/due-date-for-fees/
CATEGORIES:UTS
END:VEVENT
BEGIN:VEVENT
DTSTART;VALUE=DATE:20190125
DTEND;VALUE=DATE:20190126
DTSTAMP:20190228T051015
CREATED:20181221T032426Z
LAST-MODIFIED:20181221T032426Z
UID:1185-1548374400-1548460799@calendar.activateuts.com.au
SUMMARY:UAC January Round 2
DESCRIPTION:UAC January Round 2 undergraduate offers e-released  \n
URL:https://calendar.activateuts.com.au/events/uac-january-round-2/
CATEGORIES:UTS
END:VEVENT
END:VCALENDAR