BEGIN:VCALENDAR
VERSION:2.0
PRODID:-//Activate UTS - ECPv4.7.2//NONSGML v1.0//EN
CALSCALE:GREGORIAN
METHOD:PUBLISH
X-WR-CALNAME:Activate UTS
X-ORIGINAL-URL:https://calendar.activateuts.com.au
X-WR-CALDESC:Events for Activate UTS
BEGIN:VEVENT
DTSTART;VALUE=DATE:20190122
DTEND;VALUE=DATE:20190123
DTSTAMP:20190228T050854
CREATED:20181221T032424Z
LAST-MODIFIED:20181221T032424Z
UID:1183-1548115200-1548201599@calendar.activateuts.com.au
SUMMARY:Last day to submit appeal
DESCRIPTION:Last day to submit appeal against exclusion from Spring session 2018 \n
URL:https://calendar.activateuts.com.au/events/last-day-to-submit-appeal/
CATEGORIES:UTS
END:VEVENT
END:VCALENDAR