BEGIN:VCALENDAR
VERSION:2.0
PRODID:-//Activate UTS - ECPv4.7.2//NONSGML v1.0//EN
CALSCALE:GREGORIAN
METHOD:PUBLISH
X-WR-CALNAME:Activate UTS
X-ORIGINAL-URL:https://calendar.activateuts.com.au
X-WR-CALDESC:Events for Activate UTS
BEGIN:VEVENT
DTSTART;VALUE=DATE:20190121
DTEND;VALUE=DATE:20190122
DTSTAMP:20190228T050659
CREATED:20181221T032423Z
LAST-MODIFIED:20181221T032423Z
UID:1181-1548028800-1548115199@calendar.activateuts.com.au
SUMMARY:Closing date for UAC change
DESCRIPTION:Closing date for UAC change of preference for January Round 2 undergraduate offers \n
URL:https://calendar.activateuts.com.au/events/closing-date-for-uac-change-2/
CATEGORIES:UTS
END:VEVENT
BEGIN:VEVENT
DTSTART;VALUE=DATE:20190121
DTEND;VALUE=DATE:20190122
DTSTAMP:20190228T050659
CREATED:20181221T032423Z
LAST-MODIFIED:20181221T032423Z
UID:1182-1548028800-1548115199@calendar.activateuts.com.au
SUMMARY:February session starts
DESCRIPTION:February session 2019 commences. Ends 1 March 2019. \n
URL:https://calendar.activateuts.com.au/events/february-session-starts/
CATEGORIES:UTS
END:VEVENT
END:VCALENDAR