BEGIN:VCALENDAR
VERSION:2.0
PRODID:-//Activate UTS - ECPv4.7.2//NONSGML v1.0//EN
CALSCALE:GREGORIAN
METHOD:PUBLISH
X-WR-CALNAME:Activate UTS
X-ORIGINAL-URL:https://calendar.activateuts.com.au
X-WR-CALDESC:Events for Activate UTS
BEGIN:VEVENT
DTSTART;VALUE=DATE:20190111
DTEND;VALUE=DATE:20190112
DTSTAMP:20190228T050211
CREATED:20181221T032420Z
LAST-MODIFIED:20181221T032420Z
UID:1177-1547164800-1547251199@calendar.activateuts.com.au
SUMMARY:Last day of review of final assessment application
DESCRIPTION:Last day to lodge an application for review of final assessment result for December session 2018 \n
URL:https://calendar.activateuts.com.au/events/last-day-of-review-of-final-assessment-application-2/
CATEGORIES:UTS
END:VEVENT
BEGIN:VEVENT
DTSTART;VALUE=DATE:20190111
DTEND;VALUE=DATE:20190112
DTSTAMP:20190228T050211
CREATED:20181221T032421Z
LAST-MODIFIED:20181221T032421Z
UID:1178-1547164800-1547251199@calendar.activateuts.com.au
SUMMARY:UAC January Round 1
DESCRIPTION:UAC January Round 1 undergraduate offers  e-released \n
URL:https://calendar.activateuts.com.au/events/uac-january-round-1/
CATEGORIES:UTS
END:VEVENT
END:VCALENDAR