BEGIN:VCALENDAR
VERSION:2.0
PRODID:-//Activate UTS - ECPv4.7.2//NONSGML v1.0//EN
CALSCALE:GREGORIAN
METHOD:PUBLISH
X-WR-CALNAME:Activate UTS
X-ORIGINAL-URL:https://calendar.activateuts.com.au
X-WR-CALDESC:Events for Activate UTS
BEGIN:VEVENT
DTSTART;VALUE=DATE:20190102
DTEND;VALUE=DATE:20190103
DTSTAMP:20190228T045756
CREATED:20181221T032418Z
LAST-MODIFIED:20181221T032418Z
UID:1173-1546387200-1546473599@calendar.activateuts.com.au
SUMMARY:Last day of review of final assessment application
DESCRIPTION:Last day to lodge an application for review of final assessment result for calendar B Spring session 2018 \n
URL:https://calendar.activateuts.com.au/events/last-day-of-review-of-final-assessment-application/
CATEGORIES:UTS
END:VEVENT
BEGIN:VEVENT
DTSTART;VALUE=DATE:20190102
DTEND;VALUE=DATE:20190103
DTSTAMP:20190228T045756
CREATED:20181221T032420Z
LAST-MODIFIED:20181221T032420Z
UID:1174-1546387200-1546473599@calendar.activateuts.com.au
SUMMARY:Summer session recommences
DESCRIPTION:Summer session 2018 recommences after Christmas and NYE. Ends 15 February 2019. \n
URL:https://calendar.activateuts.com.au/events/summer-session-recommences/
CATEGORIES:UTS
END:VEVENT
END:VCALENDAR