BEGIN:VCALENDAR
VERSION:2.0
PRODID:-//Activate UTS - ECPv4.7.2//NONSGML v1.0//EN
CALSCALE:GREGORIAN
METHOD:PUBLISH
X-WR-CALNAME:Activate UTS
X-ORIGINAL-URL:https://calendar.activateuts.com.au
X-WR-CALDESC:Events for Activate UTS
BEGIN:VEVENT
DTSTART;VALUE=DATE:20190101
DTEND;VALUE=DATE:20190102
DTSTAMP:20190228T045501
CREATED:20181221T032417Z
LAST-MODIFIED:20181221T032417Z
UID:1170-1546300800-1546387199@calendar.activateuts.com.au
SUMMARY:New Year's Day
DESCRIPTION:Public Holiday \n
URL:https://calendar.activateuts.com.au/events/new-years-day/
CATEGORIES:Public Holidays
END:VEVENT
BEGIN:VEVENT
DTSTART;VALUE=DATE:20190101
DTEND;VALUE=DATE:20190102
DTSTAMP:20190228T045501
CREATED:20181221T032417Z
LAST-MODIFIED:20181221T032417Z
UID:1171-1546300800-1546387199@calendar.activateuts.com.au
SUMMARY:Autumn session starts
DESCRIPTION:Autumn session 2019 commences for graduate research students \n
URL:https://calendar.activateuts.com.au/events/autumn-session-starts/
CATEGORIES:UTS
END:VEVENT
BEGIN:VEVENT
DTSTART;VALUE=DATE:20190101
DTEND;VALUE=DATE:20190102
DTSTAMP:20190228T045501
CREATED:20181221T032417Z
LAST-MODIFIED:20181221T033127Z
UID:1172-1546300800-1546387199@calendar.activateuts.com.au
SUMMARY:Enrolment Period starts
DESCRIPTION:Enrolment Period commences for new graduate research students for Autumn session 2019 \n
URL:https://calendar.activateuts.com.au/events/enrolment-period/
CATEGORIES:UTS
END:VEVENT
END:VCALENDAR